Workbook

Sheet Presença
A1: Lista de presença por sessão
A2: Marque P em cada sessão em que a pessoa esteve. A frequência e o "apto ao certificado" são calculados.
A5: Evento | B5: Curso de Formação 2027
A6: Frequência mínima para certificado | B6: 0.75 | D6: Na linha 10, escreva o nome de cada sessão (ex.: Sáb manhã). Sessão sem nome não conta.
A7: Sessões realizadas | B7: =COUNTA(D10:M10)
A8: Modelo gratuito da ZaiPass · zaipass.com.br/blog/lista-de-presenca-evento
A9: Nº | B9: Nome completo | C9: Tipo / turma | D9: Sessão 1 | E9: Sessão 2 | F9: Sessão 3 | G9: Sessão 4 | H9: Sessão 5 | I9: Sessão 6 | J9: Sessão 7 | K9: Sessão 8 | L9: Sessão 9 | M9: Sessão 10 | N9: Presenças | O9: Frequência | P9: Apto ao certificado
B10: Nome da sessão → | D10: Sáb manhã | E10: Sáb tarde | F10: Dom manhã | G10: Dom tarde
A11: 1 | B11: Exemplo · Participante A | C11: Turma 1 | D11: P | E11: P | F11: P | G11: P | N11: =IF(B11="","",SUMPRODUCT(($D$10:$M$10<>"")*(UPPER(D11:M11)="P"))) | O11: =IF(OR(B11="",$B$7=0),"",N11/$B$7) | P11: =IF(O11="","",IF(O11>=$B$6,"Sim","Não"))
A12: 2 | B12: Exemplo · Participante B | C12: Turma 1 | D12: P | E12: P | G12: P | N12: =IF(B12="","",SUMPRODUCT(($D$10:$M$10<>"")*(UPPER(D12:M12)="P"))) | O12: =IF(OR(B12="",$B$7=0),"",N12/$B$7) | P12: =IF(O12="","",IF(O12>=$B$6,"Sim","Não"))
A13: 3 | B13: Exemplo · Participante C | C13: Turma 2 | D13: P | G13: P | N13: =IF(B13="","",SUMPRODUCT(($D$10:$M$10<>"")*(UPPER(D13:M13)="P"))) | O13: =IF(OR(B13="",$B$7=0),"",N13/$B$7) | P13: =IF(O13="","",IF(O13>=$B$6,"Sim","Não"))
A14: 4 | N14: =IF(B14="","",SUMPRODUCT(($D$10:$M$10<>"")*(UPPER(D14:M14)="P"))) | O14: =IF(OR(B14="",$B$7=0),"",N14/$B$7) | P14: =IF(O14="","",IF(O14>=$B$6,"Sim","Não"))
A15: 5 | N15: =IF(B15="","",SUMPRODUCT(($D$10:$M$10<>"")*(UPPER(D15:M15)="P"))) | O15: =IF(OR(B15="",$B$7=0),"",N15/$B$7) | P15: =IF(O15="","",IF(O15>=$B$6,"Sim","Não"))
A16: 6 | N16: =IF(B16="","",SUMPRODUCT(($D$10:$M$10<>"")*(UPPER(D16:M16)="P"))) | O16: =IF(OR(B16="",$B$7=0),"",N16/$B$7) | P16: =IF(O16="","",IF(O16>=$B$6,"Sim","Não"))
A17: 7 | N17: =IF(B17="","",SUMPRODUCT(($D$10:$M$10<>"")*(UPPER(D17:M17)="P"))) | O17: =IF(OR(B17="",$B$7=0),"",N17/$B$7) | P17: =IF(O17="","",IF(O17>=$B$6,"Sim","Não"))
A18: 8 | N18: =IF(B18="","",SUMPRODUCT(($D$10:$M$10<>"")*(UPPER(D18:M18)="P"))) | O18: =IF(OR(B18="",$B$7=0),"",N18/$B$7) | P18: =IF(O18="","",IF(O18>=$B$6,"Sim","Não"))
A19: 9 | N19: =IF(B19="","",SUMPRODUCT(($D$10:$M$10<>"")*(UPPER(D19:M19)="P"))) | O19: =IF(OR(B19="",$B$7=0),"",N19/$B$7) | P19: =IF(O19="","",IF(O19>=$B$6,"Sim","Não"))
A20: 10 | N20: =IF(B20="","",SUMPRODUCT(($D$10:$M$10<>"")*(UPPER(D20:M20)="P"))) | O20: =IF(OR(B20="",$B$7=0),"",N20/$B$7) | P20: =IF(O20="","",IF(O20>=$B$6,"Sim","Não"))
A21: 11 | N21: =IF(B21="","",SUMPRODUCT(($D$10:$M$10<>"")*(UPPER(D21:M21)="P"))) | O21: =IF(OR(B21="",$B$7=0),"",N21/$B$7) | P21: =IF(O21="","",IF(O21>=$B$6,"Sim","Não"))
A22: 12 | N22: =IF(B22="","",SUMPRODUCT(($D$10:$M$10<>"")*(UPPER(D22:M22)="P"))) | O22: =IF(OR(B22="",$B$7=0),"",N22/$B$7) | P22: =IF(O22="","",IF(O22>=$B$6,"Sim","Não"))
A23: 13 | N23: =IF(B23="","",SUMPRODUCT(($D$10:$M$10<>"")*(UPPER(D23:M23)="P"))) | O23: =IF(OR(B23="",$B$7=0),"",N23/$B$7) | P23: =IF(O23="","",IF(O23>=$B$6,"Sim","Não"))
A24: 14 | N24: =IF(B24="","",SUMPRODUCT(($D$10:$M$10<>"")*(UPPER(D24:M24)="P"))) | O24: =IF(OR(B24="",$B$7=0),"",N24/$B$7) | P24: =IF(O24="","",IF(O24>=$B$6,"Sim","Não"))
A25: 15 | N25: =IF(B25="","",SUMPRODUCT(($D$10:$M$10<>"")*(UPPER(D25:M25)="P"))) | O25: =IF(OR(B25="",$B$7=0),"",N25/$B$7) | P25: =IF(O25="","",IF(O25>=$B$6,"Sim","Não"))
... A310: 300 | N310: =IF(B310="","",SUMPRODUCT(($D$10:$M$10<>"")*(UPPER(D310:M310)="P"))) | O310: =IF(OR(B310="",$B$7=0),"",N310/$B$7) | P310: =IF(O310="","",IF(O310>=$B$6,"Sim","Não"))

Sheet Resumo por sessão
A1: Resumo por sessão
A2: Quantas pessoas estiveram em cada sessão.
A5: Sessão | B5: Presentes | C5: Inscritos | D5: Presença
A6: =IF(Presença!D10="","",Presença!D10) | B6: =IF(A6="","",COUNTIF(Presença!D11:D310,"P")) | C6: =IF(A6="","",COUNTA(Presença!$B$11:$B$310)) | D6: =IF(A6="","",IF(C6=0,"",B6/C6))
A7: =IF(Presença!E10="","",Presença!E10) | B7: =IF(A7="","",COUNTIF(Presença!E11:E310,"P")) | C7: =IF(A7="","",COUNTA(Presença!$B$11:$B$310)) | D7: =IF(A7="","",IF(C7=0,"",B7/C7))
A8: =IF(Presença!F10="","",Presença!F10) | B8: =IF(A8="","",COUNTIF(Presença!F11:F310,"P")) | C8: =IF(A8="","",COUNTA(Presença!$B$11:$B$310)) | D8: =IF(A8="","",IF(C8=0,"",B8/C8))
A9: =IF(Presença!G10="","",Presença!G10) | B9: =IF(A9="","",COUNTIF(Presença!G11:G310,"P")) | C9: =IF(A9="","",COUNTA(Presença!$B$11:$B$310)) | D9: =IF(A9="","",IF(C9=0,"",B9/C9))
A10: =IF(Presença!H10="","",Presença!H10) | B10: =IF(A10="","",COUNTIF(Presença!H11:H310,"P")) | C10: =IF(A10="","",COUNTA(Presença!$B$11:$B$310)) | D10: =IF(A10="","",IF(C10=0,"",B10/C10))
A11: =IF(Presença!I10="","",Presença!I10) | B11: =IF(A11="","",COUNTIF(Presença!I11:I310,"P")) | C11: =IF(A11="","",COUNTA(Presença!$B$11:$B$310)) | D11: =IF(A11="","",IF(C11=0,"",B11/C11))
A12: =IF(Presença!J10="","",Presença!J10) | B12: =IF(A12="","",COUNTIF(Presença!J11:J310,"P")) | C12: =IF(A12="","",COUNTA(Presença!$B$11:$B$310)) | D12: =IF(A12="","",IF(C12=0,"",B12/C12))
A13: =IF(Presença!K10="","",Presença!K10) | B13: =IF(A13="","",COUNTIF(Presença!K11:K310,"P")) | C13: =IF(A13="","",COUNTA(Presença!$B$11:$B$310)) | D13: =IF(A13="","",IF(C13=0,"",B13/C13))
A14: =IF(Presença!L10="","",Presença!L10) | B14: =IF(A14="","",COUNTIF(Presença!L11:L310,"P")) | C14: =IF(A14="","",COUNTA(Presença!$B$11:$B$310)) | D14: =IF(A14="","",IF(C14=0,"",B14/C14))
A15: =IF(Presença!M10="","",Presença!M10) | B15: =IF(A15="","",COUNTIF(Presença!M11:M310,"P")) | C15: =IF(A15="","",COUNTA(Presença!$B$11:$B$310)) | D15: =IF(A15="","",IF(C15=0,"",B15/C15))
A17: Aptos ao certificado | B17: =COUNTIF(Presença!P11:P310,"Sim")
A20: Modelo gratuito da ZaiPass · zaipass.com.br/blog/lista-de-presenca-evento
